BEGIN:VCALENDAR
VERSION:2.0
PRODID:-//eventon.com NONSGML v1.0//EN
CALSCALE:GREGORIAN
METHOD:PUBLISH
BEGIN:VEVENT
UID:69e738225575d
DTSTAMP:20260421T084106Z
DTSTART:20200307T080000Z
DTEND:20200307T110000Z
LOCATION:Jindřichovice pod Smrkem Jindřichovice pod Smrkem
SUMMARY:Den otevřených dveří
DESCRIPTION:Den otevřených dveří\nhttps://www.frydlantsko.eu/events/den
 -otevrenych-dveri/
URL:https://www.frydlantsko.eu/events/den-otevrenych-dveri/
END:VEVENT
END:VCALENDAR