BEGIN:VCALENDAR
VERSION:2.0
PRODID:-//eventon.com NONSGML v1.0//EN
CALSCALE:GREGORIAN
METHOD:PUBLISH
BEGIN:VEVENT
UID:69e737dcc5365
DTSTAMP:20260421T083956Z
DTSTART:20200302T180000Z
DTEND:20200302T220000Z
LOCATION:Kino Frýdlant Tyršova 1077\,  464 01 Frýdlant
SUMMARY:Divadelní představení Příště ho zabiju sám v Kině Frýdlant
DESCRIPTION:Bláznivá detektivní komedie o tom\,  co všechno může způ
 sobit taková nevěra a jedna „znebespadlá“ mrtvola. Děj hry se odehr
 ává v luxusním londýnském hotelu Westminster\,  kde se významný brit
 ský politik setká v největším utajení se svou milenkou\,  sekretářk
 ou opoziční strany. Kvůli nepředvídané náhodě však ztratí kontrol
 u nad dalším děním a vše[..]\nhttps://www.frydlantsko.eu/events/divade
 lni-predstaveni-priste-ho-zabiju-sam-v-kine-frydlant/
URL:https://www.frydlantsko.eu/events/divadelni-predstaveni-priste-ho-zabiju-sam-v-kine-frydlant/
END:VEVENT
END:VCALENDAR