BEGIN:VCALENDAR
VERSION:2.0
PRODID:-//eventon.com NONSGML v1.0//EN
CALSCALE:GREGORIAN
METHOD:PUBLISH
BEGIN:VEVENT
UID:69e7499e354c9
DTSTAMP:20260421T095542Z
DTSTART:20220501T073000Z
DTEND:20220531T090000Z
LOCATION:Centrum Mateřídouška\,  z.s. P. Bezruče 387\,  46362 Hejnice\,  Liberecký kraj\,  Česko
SUMMARY:Besedy a přednášky v rodinném centru Mateřídouška v Hejnicích
DESCRIPTION:Z důvodů omezeného počtu účastníků prosíme o přihlá
 ení předem! 3. května od 9:30 hod. beseda Děti a moderní technologie 
 (telefony\,  internet\,  hry) 10. května od 9:30 hod. přednáška Volná 
 hra dětí 17. května od 9:30 hod. beseda Výživa dětí &#8211; vaříme
  dětem 24. května od 9:30 hod. přednáška Jak zachytit[..]\nhttps://www
 .frydlantsko.eu/events/besedy-a-prednasky-v-rodinnem-centru-materidouska-v-
 hejnicich-3/
URL:https://www.frydlantsko.eu/events/besedy-a-prednasky-v-rodinnem-centru-materidouska-v-hejnicich-3/
END:VEVENT
END:VCALENDAR