BEGIN:VCALENDAR
VERSION:2.0
PRODID:-//eventon.com NONSGML v1.0//EN
CALSCALE:GREGORIAN
METHOD:PUBLISH
BEGIN:VEVENT
UID:69e796dec17e4
DTSTAMP:20260421T152518Z
DTSTART:20220820T150000Z
DTEND:20220820T215000Z
LOCATION:Obecní úřad Kunratice Kunratice 158\,  464 01 Kunratice
SUMMARY:Kunratická kosa 2022
DESCRIPTION:Obec Kunratice vás srdečně zve na soutěž v ručním sečen
 í trávy kosou Kunratická kosa 2022 dne 20. srpna 2022 od 17.00 hodin na 
 obecní louce. Letošní ročník je v pořadí již 4. ročník soutěže 
 v ručním kosení trávy. Přihlášky soutěžících registruje obecní 
 úřad a uzávěrka přihlášek je ve středu 17.[..]\nhttps://www.frydlan
 tsko.eu/events/kunraticka-kosa-2022/
URL:https://www.frydlantsko.eu/events/kunraticka-kosa-2022/
END:VEVENT
END:VCALENDAR