BEGIN:VCALENDAR
VERSION:2.0
PRODID:-//eventon.com NONSGML v1.0//EN
CALSCALE:GREGORIAN
METHOD:PUBLISH
BEGIN:VEVENT
UID:69e796dfa1d8e
DTSTAMP:20260421T152519Z
DTSTART:20220817T160000Z
DTEND:20220819T210000Z
LOCATION:Frýdlant město Frýdlant\,  Česko
SUMMARY:39. Letní jazzová dílna Karla Velebného 2022
DESCRIPTION:Tradičně třetí srpnový týden proběhne ve Frýdlantu už 
 po 39. Letní jazzová dílna Karla Velebného\,  která je hudebním works
 hopem jazzových hudebníků a koná  se ve Frýdlantu za účasti předn
 ch českých jazzových sólistů a zahraničních lektorů. Konat se bude
  od 13. do 20. srpna 2022. Ve středu 17. srpna 2022 vystoupí různé l
 ektorské sestavy[..]\nhttps://www.frydlantsko.eu/events/39-letni-jazzova-d
 ilna-karla-velebneho-2022/
URL:https://www.frydlantsko.eu/events/39-letni-jazzova-dilna-karla-velebneho-2022/
END:VEVENT
END:VCALENDAR