BEGIN:VCALENDAR
VERSION:2.0
PRODID:-//eventon.com NONSGML v1.0//EN
CALSCALE:GREGORIAN
METHOD:PUBLISH
BEGIN:VEVENT
UID:69e78574d113f
DTSTAMP:20260421T141100Z
DTSTART:20220811T173000Z
DTEND:20220811T200000Z
LOCATION:Náboženská obec Církve československé husitské ve Frýdlantu v Čechách Vrchlického 945\,  46401 Frýdlant\,  Česko
SUMMARY:Hudební léto v zahradě - Croche Dedans / FR
DESCRIPTION:Další vystoupení v rámci prvního ročníku Hudební léto 
 v zahradě se ve čtvrtek 11.srpna 2022 od 19.30 hodin uskuteční další 
 koncert. . V rámci malého turné vystoupí kapela Croche Dedans\,  která
  hraje bretaňské námořnické písně v moderním kabátě. Nenechte si 
 ujít zpěv a vytí pravých mořských vlků. Bretaňská atmosféra zapln
 í[..]\nhttps://www.frydlantsko.eu/events/hudebni-leto-v-zahrade-croche-ded
 ans-fr/
URL:https://www.frydlantsko.eu/events/hudebni-leto-v-zahrade-croche-dedans-fr/
END:VEVENT
END:VCALENDAR