BEGIN:VCALENDAR
VERSION:2.0
PRODID:-//eventon.com NONSGML v1.0//EN
CALSCALE:GREGORIAN
METHOD:PUBLISH
BEGIN:VEVENT
UID:69e785749ebc1
DTSTAMP:20260421T141100Z
DTSTART:20220809T070000Z
DTEND:20220813T160000Z
LOCATION:Heřmanice Heřmanice\,  464 01
SUMMARY:13. ročník Řezbářského sympozia v Heřmanicích
DESCRIPTION:Od 9. do 13. srpna 2022 se v prostoru za Hospůdkou (kulturní 
 dům) v Heřmanicích koná 13. ročník Řezbářského sympozia v Heřman
 icích. Přijďte se podívat na mistry řezbáře při tvorbě a můžete 
 posedět u pivka nebo jen tak.\nhttps://www.frydlantsko.eu/events/13-rocnik
 -rezbarskeho-sympozia-v-hermanicich/
URL:https://www.frydlantsko.eu/events/13-rocnik-rezbarskeho-sympozia-v-hermanicich/
END:VEVENT
END:VCALENDAR