BEGIN:VCALENDAR
VERSION:2.0
PRODID:-//eventon.com NONSGML v1.0//EN
CALSCALE:GREGORIAN
METHOD:PUBLISH
BEGIN:VEVENT
UID:69e7499eac109
DTSTAMP:20260421T095542Z
DTSTART:20220813T160000Z
DTEND:20220813T190000Z
LOCATION:Raspenava Moskevská 117\,  464 01 Raspenava\,  Česko
SUMMARY:SYMPORA - Intermediální sympozium Raspenava
DESCRIPTION:SYMPORA &#8211; Intermediální sympozium Raspenava Vernisáž 
 a koncert pro veřejnost v sobotu 13. srpna 2022 od 18.00 hodin Lesní 595\
 ,  Raspenava MICHAL CIMALA\,  MERMOMOC\,  X_JAZZ REMIX Zveme vás na výsta
 vu 4. ročníku sympozia Sympora\,  které se bude konat 6. 8. – 14. 8. 2
 022 / veřejná vernisáž a koncert bude[..]\nhttps://www.frydlantsko.eu/e
 vents/sympora-intermedialni-sympozium-raspenava/
URL:https://www.frydlantsko.eu/events/sympora-intermedialni-sympozium-raspenava/
END:VEVENT
END:VCALENDAR