BEGIN:VCALENDAR
VERSION:2.0
PRODID:-//eventon.com NONSGML v1.0//EN
CALSCALE:GREGORIAN
METHOD:PUBLISH
BEGIN:VEVENT
UID:69e7499ebaa55
DTSTAMP:20260421T095542Z
DTSTART:20220815T153000Z
DTEND:20220815T190000Z
LOCATION:Městské kino Frýdlant Tyršova 1077\,  464 01  Frýdlant\,  Liberecký kraj
SUMMARY:Frýdlantsko Franze Kafky 2022 - Ozvěny Pragueshorts
DESCRIPTION:V rámci letošního festivalu Frýdlantsko Franze Kafky se v p
 ondělí 15. srpna 2022 uskuteční promítání krátkých filmů. Uvidít
 e krátké filmy\,  které si získaly srdce diváků na 16. ročníku fest
 ivalu Pragueshorts Film Festival . Od 17.30 hodin se bude promítat pásmo 
 jedenácti krátkých filmů pro diváky ve věku od 3 do[..]\nhttps://www.
 frydlantsko.eu/events/frydlantsko-franze-kafky-2022-ozveny-pragueshorts/
URL:https://www.frydlantsko.eu/events/frydlantsko-franze-kafky-2022-ozveny-pragueshorts/
END:VEVENT
END:VCALENDAR