BEGIN:VCALENDAR
VERSION:2.0
PRODID:-//eventon.com NONSGML v1.0//EN
CALSCALE:GREGORIAN
METHOD:PUBLISH
BEGIN:VEVENT
UID:69e7499d6c445
DTSTAMP:20260421T095541Z
DTSTART:20220806T110000Z
DTEND:20220806T120000Z
LOCATION:SPA Resort Libverda Lázně Libverda 82\,  463 62 Lázně Libverda\,  Česko
SUMMARY:Cvičení s Hankou Kynychovou
DESCRIPTION:Zveme Vás již tuto sobotu 6.srpna8. 2022 od 13:00 na cvičen
  Pružné tělo se skvělou Hankou Kynychovou\,  a to na louce u volejbalo
 vého hřiště. Lekce je zdarma! Doporučujeme si vzít vlastní podložku
 \,  na místě bude k zapůjčení jen pár kusů. V případě nepřízniv
 ého počasí se bude konat v tělocvičně Dapandace[..]\nhttps://www.fryd
 lantsko.eu/events/cviceni-s-hankou-kynychovou/
URL:https://www.frydlantsko.eu/events/cviceni-s-hankou-kynychovou/
END:VEVENT
END:VCALENDAR