BEGIN:VCALENDAR
VERSION:2.0
PRODID:-//eventon.com NONSGML v1.0//EN
CALSCALE:GREGORIAN
METHOD:PUBLISH
BEGIN:VEVENT
UID:69e7499eb63bc
DTSTAMP:20260421T095542Z
DTSTART:20220819T080000Z
DTEND:20220930T140000Z
LOCATION:Frýdlant - Radnice nám. T. G. Masaryka 37\,  464 01  Frýdlant \, Liberecký kraj
SUMMARY:Výstava Jazz World Photo 2022
DESCRIPTION:Zveme vás na výstavu uměleckých fotografií Jazz World Phot
 o 2022 do výstavní síně frýdlantské radnice. Vernisáž výstavy se u
 skuteční 19. srpna 2022 v 17.17 hodin ve výstavní síni frýdlantské r
 adnice. &nbsp; &nbsp;\nhttps://www.frydlantsko.eu/events/vystava-jazz-world
 -photo-2022/
URL:https://www.frydlantsko.eu/events/vystava-jazz-world-photo-2022/
END:VEVENT
END:VCALENDAR