BEGIN:VCALENDAR
VERSION:2.0
PRODID:-//eventon.com NONSGML v1.0//EN
CALSCALE:GREGORIAN
METHOD:PUBLISH
BEGIN:VEVENT
UID:69e738650f7fd
DTSTAMP:20260421T084213Z
DTSTART:20220917T160000Z
DTEND:20220917T180000Z
LOCATION:Heřmanice Heřmanice\,  464 01
SUMMARY:Otto Hejnic Organism ve sklárně Spiderglass
DESCRIPTION:Sklárna Spider Glass Josefa Novotného a obec Heřmanice přiv
 áží do svých krásných prostor sklárny newyorský jazz amerického hr
 áče na Hammond organ Briana Charetta a anglického saxofonistu Osiana Rob
 ertse v projektu Otto Hejnic Organism. Proběhne i křest nového alba. Akc
 e se koná 17. září 2022 od 18.00 hodin ve sklárně Spider[..]\nhttps:/
 /www.frydlantsko.eu/events/otto-hejnic-organism-ve-sklarne-spiderglass/
URL:https://www.frydlantsko.eu/events/otto-hejnic-organism-ve-sklarne-spiderglass/
END:VEVENT
END:VCALENDAR