BEGIN:VCALENDAR
VERSION:2.0
PRODID:-//eventon.com NONSGML v1.0//EN
CALSCALE:GREGORIAN
METHOD:PUBLISH
BEGIN:VEVENT
UID:69e73814d339b
DTSTAMP:20260421T084052Z
DTSTART:20220924T050000Z
DTEND:20220924T160000Z
LOCATION:nám. T. G. Masaryka\,  Frýdlant Frýdlant\,  Česko
SUMMARY:Václavské pochody 2022
DESCRIPTION:Klub turistů Frýdlant pořádá 46. ročník turistického po
 chodu. Akce proběhne v sobotu 24. září 2022. Můžete si vybrat mezi p
 ší (6\,  10\,  16\,  28 km) či cyklotrasou (22\,  29\,  40\,  54 km). S
 tartuje se průběžně na náměstí T.G.M. ve Frýdlantu od 7.00 do 10.00
 \,  cílem je Frýdlantská výšina\,  kde každý[..]\nhttps://www.frydla
 ntsko.eu/events/vaclavske-pochody-2022/
URL:https://www.frydlantsko.eu/events/vaclavske-pochody-2022/
END:VEVENT
END:VCALENDAR