BEGIN:VCALENDAR
VERSION:2.0
PRODID:-//eventon.com NONSGML v1.0//EN
CALSCALE:GREGORIAN
METHOD:PUBLISH
BEGIN:VEVENT
UID:69e74a6a356bb
DTSTAMP:20260421T095906Z
DTSTART:20230108T090000Z
DTEND:20230108T110000Z
LOCATION:Klášter Hejnice - Mezinárodní centrum duchovní obnovy Klášterní 1 463 62  Hejnice Liberecký kraj
SUMMARY:Slavnost Zjevení Páně v Hejnicích
DESCRIPTION:Římskokatolická farnost Hejnice\,  Raspenava a Mníšek poř
 ádá v neděli 8. ledna 2023 od 10.00 hodin tradiční Rabanovku s agapé 
 v klášterním refektáři v Hejnicích. Tento den bude společná mše sv
 atá pro (nejen) farníky z Hejnic\,  Raspenavy a Mníšku v Hejnicích o 1
 0 hodině. Zváni jsou však samozřejmě všichni. Tradice se[..]\nhttps:/
 /www.frydlantsko.eu/events/slavnost-zjeveni-pane-v-hejnicich/
URL:https://www.frydlantsko.eu/events/slavnost-zjeveni-pane-v-hejnicich/
END:VEVENT
END:VCALENDAR