BEGIN:VCALENDAR
VERSION:2.0
PRODID:-//eventon.com NONSGML v1.0//EN
CALSCALE:GREGORIAN
METHOD:PUBLISH
BEGIN:VEVENT
UID:69e74a511d916
DTSTAMP:20260421T095841Z
DTSTART:20221219T090000Z
DTEND:20221223T140000Z
LOCATION:Dělňák Nové Město pod Smrkem Jindřichovická 316 463 65  Nové Město pod Smrkem Liberecký kraj
SUMMARY:Polední menu na týden 19. - 23. prosince 2022 restaurace Dělňák v Novém Městě pod Smrkem
DESCRIPTION:Polední menu na týden 19. &#8211; 23. prosince 2022 restaurac
 e Dělňák v Novém Městě pod Smrkem Naše polední menu na tento týden
 . Nově ke každému obědovému menu Coca Cola za 35 Kč. Stavte se na skv
 ělý oběd\,  moc těšíme na Vaši návštěvu. Kolektiv restaurace Děl
 ňák &nbsp;\nhttps://www.frydlantsko.eu/events/poledni-menu-na-tyden-19-23
 -prosince-2022-restaurace-delnak-v-novem-meste-pod-smrkem/
URL:https://www.frydlantsko.eu/events/poledni-menu-na-tyden-19-23-prosince-2022-restaurace-delnak-v-novem-meste-pod-smrkem/
END:VEVENT
END:VCALENDAR