BEGIN:VCALENDAR
VERSION:2.0
PRODID:-//eventon.com NONSGML v1.0//EN
CALSCALE:GREGORIAN
METHOD:PUBLISH
BEGIN:VEVENT
UID:69e738608f039
DTSTAMP:20260421T084208Z
DTSTART:20230123T094500Z
DTEND:20230127T120000Z
LOCATION:Pekárna Právě pro Tebe Okružní 385\,  46401 Frýdlant\,  Česko
SUMMARY:Obědové menu na týden 23. - 27. ledna 2023 v Pekárně Právě pro Tebe
DESCRIPTION:Nabídka poledního menu v Právě pro Tebe &#8211; Pekárna Fr
 ýdlant na týden 23. &#8211; 27. ledna 2023. Výdej poledního menu probí
 há od 10:45 &#8211; 13:00 hodin. Pekárna\,  kde pro vás denně pečou č
 erstvé pečivo a dezerty bez příměsí a dodatečného rozpékání\,  v
 aří poctivé domácí polévky a hotová jídla.\nhttps://www.frydlantsko
 .eu/events/obedove-menu-na-tyden-v-pekarne-prave-pro-tebe-copy/
URL:https://www.frydlantsko.eu/events/obedove-menu-na-tyden-v-pekarne-prave-pro-tebe-copy/
END:VEVENT
END:VCALENDAR