BEGIN:VCALENDAR
VERSION:2.0
PRODID:-//eventon.com NONSGML v1.0//EN
CALSCALE:GREGORIAN
METHOD:PUBLISH
BEGIN:VEVENT
UID:69e738121a209
DTSTAMP:20260421T084050Z
DTSTART:20230220T094500Z
DTEND:20230224T120000Z
LOCATION:Pekárna Právě pro Tebe Okružní 385\,  46401 Frýdlant\,  Česko
SUMMARY:Obědové menu na týden 20. - 24. února 2023 v Pekárně Právě pro Tebe
DESCRIPTION:Nabídka poledního menu v Právě pro Tebe &#8211; Pekárna Fr
 ýdlant na týden 20. &#8211; 24. února 2023. Výdej poledního menu prob
 há od 10:45 &#8211; 13:00 hodin. Pekárna\,  kde pro vás denně pečou 
 erstvé pečivo a dezerty bez příměsí a dodatečného rozpékání\,  
 vaří poctivé domácí polévky a hotová jídla.\nhttps://www.frydlantsk
 o.eu/events/obedove-menu-na-tyden-20-24-unora-2023-v-pekarne-prave-pro-tebe
 /
URL:https://www.frydlantsko.eu/events/obedove-menu-na-tyden-20-24-unora-2023-v-pekarne-prave-pro-tebe/
END:VEVENT
END:VCALENDAR