BEGIN:VCALENDAR
VERSION:2.0
PRODID:-//eventon.com NONSGML v1.0//EN
CALSCALE:GREGORIAN
METHOD:PUBLISH
BEGIN:VEVENT
UID:69e73859cd1fc
DTSTAMP:20260421T084201Z
DTSTART:20230628T160000Z
DTEND:20230628T183000Z
LOCATION:SPA Resort Libverda Lázně Libverda 82\,  463 62 Lázně Libverda\,  Česko
SUMMARY:Hoď se do POGODY v SPA Resortu Libverda
DESCRIPTION:Zrušeno pro nemoc. TALKSHOW Sandry Pogodové a jejího tatínk
 a Richarda Pogody Hoď se do POGODY Kdy: 28.6.2023 od 18:00 hod. Kde: Filmo
 vý sál CGP\,  SPA Resort Libverda Sandra Pogodová v rámci vydání své
  knihy nabízí zábavnou talk show. Provede vás spolu se svým otcem\,  h
 ercem a  muzikantem Richardem Pogodou\,  večerem[..]\nhttps://www.frydlan
 tsko.eu/events/hod-se-do-pogody-v-spa-resortu-libverda/
URL:https://www.frydlantsko.eu/events/hod-se-do-pogody-v-spa-resortu-libverda/
END:VEVENT
END:VCALENDAR