BEGIN:VCALENDAR
VERSION:2.0
PRODID:-//eventon.com NONSGML v1.0//EN
CALSCALE:GREGORIAN
METHOD:PUBLISH
BEGIN:VEVENT
UID:69e7385b35aec
DTSTAMP:20260421T084203Z
DTSTART:20230904T090000Z
DTEND:20230904T120000Z
LOCATION:Střední škola hospodářská a lesnická Frýdlant / Areál Bělíkova 1387\,  464 01 Frýdlant
SUMMARY:6. ročník Chmelobraní ve Frýdlantu
DESCRIPTION:Střední škola hospodářská a lesnická Frýdlant vás zve 
 v pondělí 4. září 2023 na 6. ročník Chmelobraní. Konat se bude na N
 aučné zemědělské stezce školy. Od roku 2018 pravidelně za velké sl
 vy probíhá sklizeň chmele odrůdy nejznámějšího chmele\,  Žatecké
 ho červeňáku\,  z naší chmelnice\,  která je umístěna v areálu nau
 čné zemědělské[..]\nhttps://www.frydlantsko.eu/events/6-rocnik-chmelob
 rani-ve-frydlantu/
URL:https://www.frydlantsko.eu/events/6-rocnik-chmelobrani-ve-frydlantu/
END:VEVENT
END:VCALENDAR