BEGIN:VCALENDAR
VERSION:2.0
PRODID:-//eventon.com NONSGML v1.0//EN
CALSCALE:GREGORIAN
METHOD:PUBLISH
BEGIN:VEVENT
UID:69e73859b7878
DTSTAMP:20260421T084201Z
DTSTART:20231123T170000Z
DTEND:20231123T193000Z
LOCATION:Klášter Hejnice - vzdělávací\,  konferenční a poutní dům Hejnice 1\,  46362 Hejnice\,  Liberecký kraj\,  Česko
SUMMARY:Diskuse Poslední věci člověka
DESCRIPTION:Zveme vás ve čtvrtek 23. listopadu 2023 od 18.00 hodin do aul
 y Kláštera Hejnice na setkání a diskuzi: Poslední věci člověka „
 Život každého člověka je cestou k sobě samému.“ —  Hermann Hess
 e Diskusní pořad s o doprovázení\,  smíření\,  potřebách člověka
  i o dalších otázkách\,  na které se chcete zeptat. &nbsp; Hosty[..]\n
 https://www.frydlantsko.eu/events/diskuse-posledni-veci-cloveka/
URL:https://www.frydlantsko.eu/events/diskuse-posledni-veci-cloveka/
END:VEVENT
END:VCALENDAR