BEGIN:VCALENDAR
VERSION:2.0
PRODID:-//eventon.com NONSGML v1.0//EN
CALSCALE:GREGORIAN
METHOD:PUBLISH
BEGIN:VEVENT
UID:69e74a7320ceb
DTSTAMP:20260421T095915Z
DTSTART:20240217T190000Z
DTEND:20240218T000000Z
LOCATION:Dělňák Nové Město pod Smrkem Jindřichovická 316 463 65  Nové Město pod Smrkem Liberecký kraj
SUMMARY:Valentýnská zábava v Novém Městě pod Smrkem
DESCRIPTION:Pozvánka na Valentýnskou oldies party do Nového Města pod S
 mrkem. Předprodej vstupenek v informačním centru v Novém Městě pod Sm
 rkem za 100 Kč\,  na místě 150 Kč. Zdroj: Akce Frýdlantsko\nhttps://ww
 w.frydlantsko.eu/events/valentynska-zabava-v-novem-meste-pod-smrkem/
URL:https://www.frydlantsko.eu/events/valentynska-zabava-v-novem-meste-pod-smrkem/
END:VEVENT
END:VCALENDAR