BEGIN:VCALENDAR
VERSION:2.0
PRODID:-//eventon.com NONSGML v1.0//EN
CALSCALE:GREGORIAN
METHOD:PUBLISH
BEGIN:VEVENT
UID:69e74a74858d3
DTSTAMP:20260421T095916Z
DTSTART:20251108T170000Z
DTEND:20251108T225900Z
LOCATION:Horní Řasnice / Kulturní dům Horní Řasnice 83\,  464 01 Horní Řasnice\,  Česko
SUMMARY:Roubovaný vokurky / Párty v Horní Řasnici
DESCRIPTION:Kapela Roubovaný Vokurky přijede letos do Horní Řasnice 8. 
 listopadu. Na sále Kulturního domu U kostela začínáme již v 18 hodin\
 ,  aby si podvečerní část mohly užít s námi i děti. Plánovaný kon
 ec je o půlnoci. Občerstvení letos zajišťuje team pana Víta. Pokud bu
 de zájem\,  zajistíme taxi službu. Nezůstávejte doma[..]\nhttps://www.
 frydlantsko.eu/events/roubovany-vokurky-horni-rasnice-2025/
URL:https://www.frydlantsko.eu/events/roubovany-vokurky-horni-rasnice-2025/
END:VEVENT
END:VCALENDAR