BEGIN:VCALENDAR
VERSION:2.0
PRODID:-//eventon.com NONSGML v1.0//EN
CALSCALE:GREGORIAN
METHOD:PUBLISH
BEGIN:VEVENT
UID:69e738614856d
DTSTAMP:20260421T084209Z
DTSTART:20251206T110000Z
DTEND:20251206T210000Z
LOCATION:Klášter Hejnice - Mezinárodní centrum duchovní obnovy Klášterní 1 463 62  Hejnice Liberecký kraj
SUMMARY:Hejnický advent 2025
DESCRIPTION:Hejnícký advent 2025Sobota 6. prosince 2025Klášter Hejnice 
 Program:11.00 – Vánoční strom dětí (zpívání dětí z mateřských
 \,  základních a uměleckých škol Frýdlantska) – kostel9.00–17.00 
 – Hejnický betlém Pavla Peciny (výstava betlémů\,  vánočních pohl
 ednic a ilustrací) – výstavní síň kláštera12.00–17.00 – Trhy v
  křížové chodbě kláštera (řemeslné výrobky\,  svařené víno a g
 rilované[..]\nhttps://www.frydlantsko.eu/events/hejnicky-advent-2025/
URL:https://www.frydlantsko.eu/events/hejnicky-advent-2025/
END:VEVENT
END:VCALENDAR