BEGIN:VCALENDAR
VERSION:2.0
PRODID:-//eventon.com NONSGML v1.0//EN
CALSCALE:GREGORIAN
METHOD:PUBLISH
BEGIN:VEVENT
UID:69eb8e221ec71
DTSTAMP:20260424T153706Z
DTSTART:20251206T140000Z
DTEND:20251206T170000Z
LOCATION:Kulturní dům Kunratice Kunratice 101\,  464 01 Kunratice\,  Liberecký kraj\,  Česko
SUMMARY:KUNRATICKÁ MIKULÁŠSKÁ BESÍDKA
DESCRIPTION:KUNRATICKÁ MIKULÁŠSKÁ BESÍDKA Sobota 6. prosince od 15 hod
 in v KD Kunratice\nhttps://www.frydlantsko.eu/events/kunraticka-mikulasska-
 besidka-2/
URL:https://www.frydlantsko.eu/events/kunraticka-mikulasska-besidka-2/
END:VEVENT
END:VCALENDAR