BEGIN:VCALENDAR
VERSION:2.0
PRODID:-//eventon.com NONSGML v1.0//EN
CALSCALE:GREGORIAN
METHOD:PUBLISH
BEGIN:VEVENT
UID:69eb4ffdea26c
DTSTAMP:20260424T111157Z
DTSTART:20251213T090000Z
DTEND:20251213T100000Z
LOCATION:Kostel Neposkvrněného Početí Panny Marie\,  Horní Řasnice
SUMMARY:Advent v Horní Řasnici: Poutní mše svatá / celebruje P. Jiří Voleský
DESCRIPTION:Poutní mše svatá / celebruje P. Jiří Voleský Datum\,  ča
 s: 13. 12.\,  10:00 Místo: Kostel Neposkvrněného početí Panny Marie\, 
  Horní Řasnice &nbsp;\nhttps://www.frydlantsko.eu/events/advent-v-horni-r
 asnici-poutni-mse-svata/
URL:https://www.frydlantsko.eu/events/advent-v-horni-rasnici-poutni-mse-svata/
END:VEVENT
END:VCALENDAR