BEGIN:VCALENDAR
VERSION:2.0
PRODID:-//eventon.com NONSGML v1.0//EN
CALSCALE:GREGORIAN
METHOD:PUBLISH
BEGIN:VEVENT
UID:69ed3f1462bbe
DTSTAMP:20260425T222420Z
DTSTART:20251205T160000Z
DTEND:20251205T190000Z
LOCATION:nám. T. G. Masaryka\,  Frýdlant Frýdlant\,  Česko
SUMMARY:Mikulášská nadílka s Krampusáky
DESCRIPTION:Mikulášská nadílka s Krampusáky Srdečně vás zveme na mi
 kulášskou nadílku\,  která proběhne 5. prosince na náměstí T. G. M.
  ve Frýdlantu. Od 17:00 dorazí Mikuláš v doprovodu anděla a čerta\,  
 aby předal balíčky dětem. Následně od 18:00 program doplní vystoupen
 í Krampus skupiny. Balíčky určené pro děti můžete odevzdávat ve fr
 ýdlantském[..]\nhttps://www.frydlantsko.eu/events/mikulasska-nadilka-s-kr
 ampusaky/
URL:https://www.frydlantsko.eu/events/mikulasska-nadilka-s-krampusaky/
END:VEVENT
END:VCALENDAR