BEGIN:VCALENDAR
VERSION:2.0
PRODID:-//eventon.com NONSGML v1.0//EN
CALSCALE:GREGORIAN
METHOD:PUBLISH
BEGIN:VEVENT
UID:69ed002020049
DTSTAMP:20260425T175544Z
DTSTART:20251220T150000Z
DTEND:20251220T170000Z
LOCATION:Kostel Nejsvětější Trojice\,  Jindřichovice pod Smrkem Jindřichovice pod Smrkem\,  Česko
SUMMARY:Vánoční zpívání v kostele – Jindřichovice p. Smrkem
DESCRIPTION:Vánoční zpívání v kostele – Jindřichovice p. SmrkemSob
 ota 20. prosince 2025 od 16:00Kostel Nejsvětější Trojice\,  Jindřichov
 ice pod Smrkem Účinkuje pěvecký sbor Pohoda.Vstupné dobrovolné.\nhttp
 s://www.frydlantsko.eu/events/vanocni-zpivani-v-kostele-jindrichovice-p-smr
 kem/
URL:https://www.frydlantsko.eu/events/vanocni-zpivani-v-kostele-jindrichovice-p-smrkem/
END:VEVENT
END:VCALENDAR