BEGIN:VCALENDAR
VERSION:2.0
PRODID:-//eventon.com NONSGML v1.0//EN
CALSCALE:GREGORIAN
METHOD:PUBLISH
BEGIN:VEVENT
UID:69ed00204ecc1
DTSTAMP:20260425T175544Z
DTSTART:20251206T160000Z
DTEND:20251206T180000Z
LOCATION:Kostel Nejsvětější Trojice\,  Jindřichovice pod Smrkem Jindřichovice pod Smrkem\,  Česko
SUMMARY:Česká mše vánoční – Jakub Jan Ryba
DESCRIPTION:Česká mše vánoční – Jakub Jan RybaSobota 6. prosince 20
 25 od 17:00Kostel Nejsvětější Trojice\,  Jindřichovice pod Smrkem Úč
 inkují: Musica Allegra s hosty a pěvecký sbor Bořivoj.Vstupné dobrovol
 né.\nhttps://www.frydlantsko.eu/events/ceska-mse-vanocni-jindrichovice-p-s
 mrkem/
URL:https://www.frydlantsko.eu/events/ceska-mse-vanocni-jindrichovice-p-smrkem/
END:VEVENT
END:VCALENDAR