BEGIN:VCALENDAR
VERSION:2.0
PRODID:-//eventon.com NONSGML v1.0//EN
CALSCALE:GREGORIAN
METHOD:PUBLISH
BEGIN:VEVENT
UID:69eceb67538fc
DTSTAMP:20260425T162719Z
DTSTART:20251206T130000Z
DTEND:20251206T160000Z
LOCATION:Dolní Řasnice Dolní Řasnice
SUMMARY:Cesta do pekla – Dolní Řasnice
DESCRIPTION:Cesta do pekla – Dolní ŘasniceSobota 6. 12. 2025 14:00 – 
 otevření Nebeské kanceláře pro menší děti15:00–17:00 – hlavní 
 program u KD Koruna V Dolní Řasnici na vás čeká Mikuláš\,  anděl a 
 čertovská rodinka\,  kteří navštíví děti přímo v jejich domovech.
  V KD Koruna budou připravené tvořivé dílničky a soutěže\, [..]\nht
 tps://www.frydlantsko.eu/events/cesta-do-pekla-dolni-rasnice/
URL:https://www.frydlantsko.eu/events/cesta-do-pekla-dolni-rasnice/
END:VEVENT
END:VCALENDAR