BEGIN:VCALENDAR
VERSION:2.0
PRODID:-//eventon.com NONSGML v1.0//EN
CALSCALE:GREGORIAN
METHOD:PUBLISH
BEGIN:VEVENT
UID:69ecc1ad99bbb
DTSTAMP:20260425T132917Z
DTSTART:20251204T150000Z
DTEND:20251204T190000Z
LOCATION:ZŠ Nové Město p. Smrkem
SUMMARY:Vánoční Jarmark ŽŠ Nové Město p. S.
DESCRIPTION:Pedagogický sbor a žáci 2. stupně ZŠ v Novém Městě pod 
 Smrkem vás zvou na vánoční jarmark! čtvrtek 4. prosince 2025 od 16:00 
 2. stupeň ZŠ\,  ul. Tylova 694 Můžete se těšit na hudební vystoupen
 \,  možnost zakoupení dárečků a drobností\,  prohlídku učeben př
 rodopisu a fyziky a betlém.\nhttps://www.frydlantsko.eu/events/vanocni-ja
 rmark-zs-nove-mesto-p-s-2025/
URL:https://www.frydlantsko.eu/events/vanocni-jarmark-zs-nove-mesto-p-s-2025/
END:VEVENT
END:VCALENDAR