BEGIN:VCALENDAR
VERSION:2.0
PRODID:-//eventon.com NONSGML v1.0//EN
CALSCALE:GREGORIAN
METHOD:PUBLISH
BEGIN:VEVENT
UID:69e76fc937a74
DTSTAMP:20260421T123833Z
DTSTART:20260116T160000Z
DTEND:20260116T190000Z
LOCATION:Kostel Nejsvětější Trojice\,  Jindřichovice pod Smrkem Jindřichovice pod Smrkem\,  Česko
SUMMARY:Novoroční koncert v Jindřichovicích
DESCRIPTION:Spolek pro zvelebení jindřichovického kostela Campana z.s. a
  Obec Jindřichovice pod smrkem vás srdečně zvou na Novoroční koncert.
  Pátek 16. 1. 2026 od 17:00 Kostel Nejsvětější Trojice v Jindřichovic
 ích pod Smrkem.Těšit se můžete na&#8211; flétnový soubor Flauto Coll
 egium / ZUŠ Frýdlant&#8211; pěvecký sbor Cantus / ZUŠ Frýdlant&#8211;
  smyčcový orchestr Camerata[..]\nhttps://www.frydlantsko.eu/events/novoro
 cni-koncert-v-jindrichovicich-2026/
URL:https://www.frydlantsko.eu/events/novorocni-koncert-v-jindrichovicich-2026/
END:VEVENT
END:VCALENDAR