BEGIN:VCALENDAR
VERSION:2.0
PRODID:-//eventon.com NONSGML v1.0//EN
CALSCALE:GREGORIAN
METHOD:PUBLISH
BEGIN:VEVENT
UID:69eb771008322
DTSTAMP:20260424T135840Z
DTSTART:20260117T080000Z
DTEND:20260222T160000Z
LOCATION:Klášter Hejnice - vzdělávací\,  konferenční a poutní dům Hejnice 1\,  46362 Hejnice\,  Liberecký kraj\,  Česko
SUMMARY:V ozvěnách ticha: akvarely a olejomalby Radky Haumerové
DESCRIPTION:V ozvěnách ticha: akvarely a olejomalby Radky Haumerové 17. 
 ledna – 22. února 2026 výstavní síň hejnického kláštera otevřeno
  denně 9–17 h\nhttps://www.frydlantsko.eu/events/v-ozvenach-ticha-akvare
 ly-a-olejomalby-radky-haumerove/
URL:https://www.frydlantsko.eu/events/v-ozvenach-ticha-akvarely-a-olejomalby-radky-haumerove/
END:VEVENT
END:VCALENDAR