BEGIN:VCALENDAR
VERSION:2.0
PRODID:-//eventon.com NONSGML v1.0//EN
CALSCALE:GREGORIAN
METHOD:PUBLISH
BEGIN:VEVENT
UID:69eb75acc21c9
DTSTAMP:20260424T135244Z
DTSTART:20260206T163000Z
DTEND:20260206T225900Z
LOCATION:Restaurace Beseda Frýdlant Tyršova 927\,  46401 Frýdlant\,  Česko
SUMMARY:Prom Night – Noc pod vlivem kouzla
DESCRIPTION:Prom Night – Noc pod vlivem kouzla Zveme Vás na slavnostní 
 Prom Night – Noc pod vlivem kouzla\,  kterou pořádá Střední škola h
 ospodářská a lesnická Frýdlant. Čeká Vás večer plný elegance\,  s
 polečenských setkání a hudebního programu. 6. února 2026 v Besedě\, 
  Frýdlant Příchod hostů od 17:30 hodin. Večerem Vás provede[..]\nhttp
 s://www.frydlantsko.eu/events/prom-night-noc-pod-vlivem-kouzla/
URL:https://www.frydlantsko.eu/events/prom-night-noc-pod-vlivem-kouzla/
END:VEVENT
END:VCALENDAR