BEGIN:VCALENDAR
VERSION:2.0
PRODID:-//eventon.com NONSGML v1.0//EN
CALSCALE:GREGORIAN
METHOD:PUBLISH
BEGIN:VEVENT
UID:69eb5e0ff1c06
DTSTAMP:20260424T121159Z
DTSTART:20260217T170000Z
DTEND:20260217T210000Z
LOCATION:Česká Beseda Raspenava Nádražní 630\,  464 01 Raspenava\,  Česko
SUMMARY:Petr Kostka a Tomáš Töpfer: talkshow a autogramiáda
DESCRIPTION:Srdečně zveme na talkshow a autogramiádu Petra Kostky a Tom
 še Töpfera. Zábavný večer založený na humorném a originálním vyp
 rávění životních příběhů jak ze soukromého\,  tak pracovního ži
 vota pánů Petra Kosty a Tomáše Töpfera. 17. února 2026 od 18 hodin s
 l České besedy\,  Raspenava Předprodej vstupenek za 300 Kč od 2.[..]\n
 https://www.frydlantsko.eu/events/petr-kostka-a-tomas-topfer-talkshow-a-aut
 ogramiada/
URL:https://www.frydlantsko.eu/events/petr-kostka-a-tomas-topfer-talkshow-a-autogramiada/
END:VEVENT
END:VCALENDAR