BEGIN:VCALENDAR
VERSION:2.0
PRODID:-//eventon.com NONSGML v1.0//EN
CALSCALE:GREGORIAN
METHOD:PUBLISH
BEGIN:VEVENT
UID:69eb5e1001b76
DTSTAMP:20260424T121200Z
DTSTART:20260119T143000Z
DTEND:20260119T170000Z
LOCATION:Zimní stadion Frýdlant Fügnerova 1389\,  464 01 Frýdlant
SUMMARY:Pojď hrát hokej! Náborová akce HC Frýdlant
DESCRIPTION:Přijďte 19. ledna od 15:30 s dětmi na nábor a užijte si sp
 oustu hokejové zábavy! V pondělí 19. ledna 2026 od 15:30 budou mít v
 echny děti ve věku 4–8 let jedinečnou možnost vyzkoušet si ZDARMA\,
   jaké to je být hokejistou nebo hokejistkouHC Frýdlant pořádá ve spo
 lupráci s Českým hokejem na zimním[..]\nhttps://www.frydlantsko.eu/even
 ts/pojd-hrat-hokej-naborova-akce-hc-frydlant/
URL:https://www.frydlantsko.eu/events/pojd-hrat-hokej-naborova-akce-hc-frydlant/
END:VEVENT
END:VCALENDAR