BEGIN:VCALENDAR
VERSION:2.0
PRODID:-//eventon.com NONSGML v1.0//EN
CALSCALE:GREGORIAN
METHOD:PUBLISH
BEGIN:VEVENT
UID:69eb4be97ab7a
DTSTAMP:20260424T105433Z
DTSTART:20260228T190000Z
DTEND:20260228T225900Z
LOCATION:Horní Řasnice / Kulturní dům Horní Řasnice 83\,  464 01 Horní Řasnice\,  Česko
SUMMARY:Prokazatelně benefiční ples v Horní Řasnici
DESCRIPTION:Spolek pro obnovu kostela v Horní Řasnici Vás srdečně zve 
 na Prokazatelně benefiční ples. K tanci a poslechu bude opět hrát F ba
 nd. Těšit se můžete na bohatou tombolu\,  losování vstupenek a předt
 ančení. Rezervujte si místa na sále včas. 28. února 2026 od 20:00 Kul
 turní dům v Horní Řasnici Vstupné[..]\nhttps://www.frydlantsko.eu/even
 ts/prokazatelne-beneficni-ples-v-horni-rasnici/
URL:https://www.frydlantsko.eu/events/prokazatelne-beneficni-ples-v-horni-rasnici/
END:VEVENT
END:VCALENDAR