BEGIN:VCALENDAR
VERSION:2.0
PRODID:-//eventon.com NONSGML v1.0//EN
CALSCALE:GREGORIAN
METHOD:PUBLISH
BEGIN:VEVENT
UID:69eb4be90d1b9
DTSTAMP:20260424T105433Z
DTSTART:20260130T140000Z
DTEND:20260130T170000Z
LOCATION:ZŠ a MŠ Hejnice Lázeňská 406\,  46362 Hejnice\,  Liberecký kraj\,  Česko
SUMMARY:Deskohrátky pro děti i dospělé
DESCRIPTION:Deskohrátky pro děti i dospělé Město Hejnice zve na odpole
 dne plné deskových a karetních her pro děti i dospělé. Přijďte si z
 ahrát\,  pobavit se a strávit čas s kamarády i rodinou. Klidně si vezm
 ěte i svou oblíbenou hru. Součástí akce je drobné občerstvení a mal
 é překvapení na závěr. Pátek 30.[..]\nhttps://www.frydlantsko.eu/even
 ts/deskohratky-pro-deti-i-dospele/
URL:https://www.frydlantsko.eu/events/deskohratky-pro-deti-i-dospele/
END:VEVENT
END:VCALENDAR