BEGIN:VCALENDAR
VERSION:2.0
PRODID:-//eventon.com NONSGML v1.0//EN
CALSCALE:GREGORIAN
METHOD:PUBLISH
BEGIN:VEVENT
UID:69eb39ea1bbf9
DTSTAMP:20260424T093746Z
DTSTART:20260221T180000Z
DTEND:20260221T200000Z
LOCATION:Kino Hejnice Jizerská 3\,  46362 Hejnice\,  Liberecký kraj\,  Česko
SUMMARY:S tvojí dcerou ne aneb Jak přežít krizi středního věku / DIVADLO SLAD
DESCRIPTION:S tvojí dcerou ne aneb Jak přežít krizi středního věkuDi
 vadlo SLAD (Mnichovo Hradiště) Divadelní komedie o manželských krizíc
 h\,  vztazích\,  trapasech a nečekaných situacích. Příběh dvou zdán
 livě obyčejných manželských párů se postupně mění v gejzír slovn
 ího humoru\,  absurdních momentů a komických zápletek. Výraznou roli 
 sehrají také dospívající dcera\,  její přítel a[..]\nhttps://www.fr
 ydlantsko.eu/events/s-tvoji-dcerou-ne-aneb-jak-prezit-krizi-stredniho-veku-
 divadlo-slad/
URL:https://www.frydlantsko.eu/events/s-tvoji-dcerou-ne-aneb-jak-prezit-krizi-stredniho-veku-divadlo-slad/
END:VEVENT
END:VCALENDAR