BEGIN:VCALENDAR
VERSION:2.0
PRODID:-//eventon.com NONSGML v1.0//EN
CALSCALE:GREGORIAN
METHOD:PUBLISH
BEGIN:VEVENT
UID:69eb359904d0d
DTSTAMP:20260424T091921Z
DTSTART:20260206T090000Z
DTEND:20260206T103000Z
LOCATION:Frýdlant město Frýdlant\,  Česko
SUMMARY:MASOPUSTNÍ PRŮVOD ZŠ\,  ZUŠ A MŠ FRÝDLANT
DESCRIPTION:ZŠ\,  ZUŠ a MŠ Frýdlant vás srdečně zve na Masopustní p
 růvod.Průvod plný masek\,  dobré nálady a možná i masopustních kol
 čků!V pátek 6. února 2026\,  v 10:00 začíná průvod u ZŠ Husova\, 
  v 10:15 se všichni sejdeme na náměstí!\nhttps://www.frydlantsko.eu/eve
 nts/masopustni-pruvod-zs-zus-a-ms-frydlant/
URL:https://www.frydlantsko.eu/events/masopustni-pruvod-zs-zus-a-ms-frydlant/
END:VEVENT
END:VCALENDAR