BEGIN:VCALENDAR
VERSION:2.0
PRODID:-//eventon.com NONSGML v1.0//EN
CALSCALE:GREGORIAN
METHOD:PUBLISH
BEGIN:VEVENT
UID:69eb21b0a3282
DTSTAMP:20260424T075424Z
DTSTART:20260121T180000Z
DTEND:20260121T210000Z
LOCATION:Kino Frýdlant Tyršova 1077\,  464 01 Frýdlant
SUMMARY:Martin Zounar ve Frýdlantu | Talkshow
DESCRIPTION:Herec Martin Zounar zavítá do Frýdlantu se svou talkshow\,  
 ve které se podělí o osobní příběhy ze života i herecké kariéry. 
 Čeká vás večer plný humoru\,  vzpomínek a otevřeného vyprávění. 
 Středa 21. ledna 2026\,  19:00Kino Frýdlant Vstupné:– 400 Kč (příze
 mí)– 350 Kč (balkon) Předprodej vstupenek:Turistické informační cen
 trum Frýdlant\,  portál evstupenka.cz\nhttps://www.frydlantsko.eu/events/
 martin-zounar-ve-frydlantu-talkshow/
URL:https://www.frydlantsko.eu/events/martin-zounar-ve-frydlantu-talkshow/
END:VEVENT
END:VCALENDAR