BEGIN:VCALENDAR
VERSION:2.0
PRODID:-//eventon.com NONSGML v1.0//EN
CALSCALE:GREGORIAN
METHOD:PUBLISH
BEGIN:VEVENT
UID:69eb21b0b5b96
DTSTAMP:20260424T075424Z
DTSTART:20260326T180000Z
DTEND:20260326T210000Z
LOCATION:Kino Frýdlant Tyršova 1077\,  464 01 Frýdlant
SUMMARY:Úvěr – divadelní komedie | Kino Frýdlant
DESCRIPTION:Úvěr – divadelní komedie Zveme vás na divadelní komedii 
 Úvěr\,  která s lehkostí a humorem nahlíží na téma finančních roz
 hodnutí i partnerských vztahů. Chytré dialogy\,  svižné tempo a situa
 ce\,  které možná důvěrně znáte. Čtvrtek 26. března 2026\,  19:00K
 ino Frýdlant Vstupné:– 400 Kč (přízemí)– 350 Kč (balkon) Předpr
 odej vstupenek od 14.[..]\nhttps://www.frydlantsko.eu/events/uver-divadelni
 -komedie-kino-frydlant/
URL:https://www.frydlantsko.eu/events/uver-divadelni-komedie-kino-frydlant/
END:VEVENT
END:VCALENDAR