BEGIN:VCALENDAR
VERSION:2.0
PRODID:-//eventon.com NONSGML v1.0//EN
CALSCALE:GREGORIAN
METHOD:PUBLISH
BEGIN:VEVENT
UID:69eb0d51b0710
DTSTAMP:20260424T062729Z
DTSTART:20260119T070000Z
DTEND:20260226T150000Z
LOCATION:Frýdlant - Radnice nám. T. G. Masaryka 37\,  464 01  Frýdlant \, Liberecký kraj
SUMMARY:Živé pochodně – Jan Palach a ti druzí | Výstava
DESCRIPTION:Živé pochodně – Jan Palach a ti druzí Výstava připomín
 ající příběhy mužů\,  kteří se nebáli veřejně protestovat proti
  nesvobodě – a zaplatili za to tím nejcennějším. Nejde jen o Jana Pa
 lacha\,  ale i o další osobnosti\,  jejichž činy se hluboce zapsaly do 
 našich dějin. 19. ledna – 26. února 2026Výstavní[..]\nhttps://www.fr
 ydlantsko.eu/events/zive-pochodne-jan-palach-a-ti-druzi-vystava/
URL:https://www.frydlantsko.eu/events/zive-pochodne-jan-palach-a-ti-druzi-vystava/
END:VEVENT
END:VCALENDAR