BEGIN:VCALENDAR
VERSION:2.0
PRODID:-//eventon.com NONSGML v1.0//EN
CALSCALE:GREGORIAN
METHOD:PUBLISH
BEGIN:VEVENT
UID:69eb0d51afe0b
DTSTAMP:20260424T062729Z
DTSTART:20260214T130000Z
DTEND:20260214T220000Z
LOCATION:Hejnice Hejnice\,  Liberecký kraj\,  Česko
SUMMARY:Masopust v Hejnicích 2026
DESCRIPTION:Masopust v Hejnicích 2026 Masopust v Hejnicích se opět vrac
  – a letos znovu s ukončením masopustní zábavou na Ferdinandově. T
 šit se můžete na tradiční průvod masek městem a večerní tanec se 
 živou hudbou. Sobota 14. února 2026 14:00 – start průvodu masek před 
 městským úřademcca 17:00 – konec korzování[..]\nhttps://www.frydlan
 tsko.eu/events/masopust-v-hejnicich-2026/
URL:https://www.frydlantsko.eu/events/masopust-v-hejnicich-2026/
END:VEVENT
END:VCALENDAR