BEGIN:VCALENDAR
VERSION:2.0
PRODID:-//eventon.com NONSGML v1.0//EN
CALSCALE:GREGORIAN
METHOD:PUBLISH
BEGIN:VEVENT
UID:69eaf88cf3955
DTSTAMP:20260424T045852Z
DTSTART:20260228T090000Z
DTEND:20260228T150000Z
LOCATION:Kulturní dům Víska Víska\,  Višňová
SUMMARY:Višňovské VŠEHOTRHY
DESCRIPTION:Višňovské VŠEHOTRHY Klasický bazárek pořádaný obcí Vi
 šňová. Přijďte swapovat\,  vyměňovat\,  prodávat nebo nakupovat nej
 různější věci. Kdy: sobota 28. února 2026\,  10:00–16:00Kde: Kultur
 ní dům ve Višňové V případě prodeje je nutné se předem zaregistro
 vat e-mailem na soupavlina@seznam.czPodrobné informace a pravidla jsou dos
 tupné ZDE.\nhttps://www.frydlantsko.eu/events/visnovske-vsehotrhy/
URL:https://www.frydlantsko.eu/events/visnovske-vsehotrhy/
END:VEVENT
END:VCALENDAR