BEGIN:VCALENDAR
VERSION:2.0
PRODID:-//eventon.com NONSGML v1.0//EN
CALSCALE:GREGORIAN
METHOD:PUBLISH
BEGIN:VEVENT
UID:69eaf88cf39e5
DTSTAMP:20260424T045852Z
DTSTART:20260228T170000Z
DTEND:20260228T190000Z
LOCATION:Dělňák Nové Město pod Smrkem Jindřichovická 316 463 65  Nové Město pod Smrkem Liberecký kraj
SUMMARY:Taková láska z mládí | divadelní komedie
DESCRIPTION:Město Nové Město pod Smrkem vás zve na komedii divadelního
  spolku Višňovský ROK Taková láska z mládí (Ivan Calbérac). Předst
 avení se uskuteční v sobotu 28. února 2026 od 18:00 hodin na sále Děl
 nického domu v Novém Městě pod Smrkem. Předprodej vstupenek probíhá 
 od 14. ledna 2026 v Informačním centru Nové[..]\nhttps://www.frydlantsko
 .eu/events/takova-laska-z-mladi-nmps/
URL:https://www.frydlantsko.eu/events/takova-laska-z-mladi-nmps/
END:VEVENT
END:VCALENDAR