BEGIN:VCALENDAR
VERSION:2.0
PRODID:-//eventon.com NONSGML v1.0//EN
CALSCALE:GREGORIAN
METHOD:PUBLISH
BEGIN:VEVENT
UID:69eae18feedc0
DTSTAMP:20260424T032047Z
DTSTART:20260117T120000Z
DTEND:20260117T150000Z
LOCATION:Višňová okres Liberec\,  Liberecký kraj\,  Česko
SUMMARY:Uvař a ochutnej speciality polské národní kuchyně
DESCRIPTION:Akce Uvař a ochutnej speciality polské národní kuchyně se 
 uskuteční v sobotu 17. ledna 2026 od 13:00 hodin ve školní jídelně ve
  Višňové. Účastníci se naučí připravovat tradiční pokrmy polské
  kuchyně přímo pod vedením našich sousedů. Společně se bude vařit 
 bigos a pierogi\,  které bude možné po dokončení také ochutnat.[..]\n
 https://www.frydlantsko.eu/events/uvar-a-ochutnej-speciality-polske-narodni
 -kuchyne/
URL:https://www.frydlantsko.eu/events/uvar-a-ochutnej-speciality-polske-narodni-kuchyne/
END:VEVENT
END:VCALENDAR