BEGIN:VCALENDAR
VERSION:2.0
PRODID:-//eventon.com NONSGML v1.0//EN
CALSCALE:GREGORIAN
METHOD:PUBLISH
BEGIN:VEVENT
UID:69eae19013e10
DTSTAMP:20260424T032048Z
DTSTART:20260124T190000Z
DTEND:20260124T225900Z
LOCATION:Statek Jindřichovice pdo Smrkem Jindřichovice pod Smrkem 81\,  Jindřichovice pod Smrkem
SUMMARY:17. Spolkový ples Obce Jindřichovice pod Smrkem
DESCRIPTION:17. Spolkový ples Obce Jindřichovice pod Smrkem se uskutečn
  v sobotu 24. ledna 2026 od 20:00 hodin na sále jindřichovického statku
 . K tanci a poslechu bude po celý večer hrát hudební skupina ROURA\,  p
 ředtančení zajistí seskupení THE WINGS. O občerstvení a pohodlí ná
 vštěvníků se postará personál Hospůdky na statku. Vstupné[..]\nhttp
 s://www.frydlantsko.eu/events/17-spolkovy-ples-obce-jindrichovice-pod-smrke
 m/
URL:https://www.frydlantsko.eu/events/17-spolkovy-ples-obce-jindrichovice-pod-smrkem/
END:VEVENT
END:VCALENDAR