BEGIN:VCALENDAR
VERSION:2.0
PRODID:-//eventon.com NONSGML v1.0//EN
CALSCALE:GREGORIAN
METHOD:PUBLISH
BEGIN:VEVENT
UID:69eae19010fef
DTSTAMP:20260424T032048Z
DTSTART:20260214T130000Z
DTEND:20260214T160000Z
LOCATION:ZŠ - Husova\,  Frýdlant Husova 973 464 01 Frýdlant
SUMMARY:HERNAJS! 3. festival her ve Frýdlantu
DESCRIPTION:V sobotu 14. února se od 14:00 do 17:00 hodin uskuteční ve F
 rýdlantu třetí ročník festivalu her Hernajs! Návštěvníky čekají 
 desítky her na vyzkoušení\,  programy jako Dračí hlídka\,  airhokej\,
   capoeira\,  robotika nebo swap her. Hrami budou provázet dětské týmy.
  Akce je zaměřena na společnou zábavu\,  hraní a výměnu her. Festiva
 l[..]\nhttps://www.frydlantsko.eu/events/hernajs-2026/
URL:https://www.frydlantsko.eu/events/hernajs-2026/
END:VEVENT
END:VCALENDAR