BEGIN:VCALENDAR
VERSION:2.0
PRODID:-//eventon.com NONSGML v1.0//EN
CALSCALE:GREGORIAN
METHOD:PUBLISH
BEGIN:VEVENT
UID:69e73823b2d7d
DTSTAMP:20260421T084107Z
DTSTART:20260214T190000Z
DTEND:20260214T225900Z
LOCATION:Dělňák Nové Město pod Smrkem Jindřichovická 316 463 65  Nové Město pod Smrkem Liberecký kraj
SUMMARY:Valentýnská zábava v Novém Městě p. S.
DESCRIPTION:Hasiči Nové Město pod Smrkem vás srdečně zvou na Valentý
 nskou zábavu. Sobota 14. 2. 2026 od 20:00 Dělnický Dům\,  Nové Město 
 pod Smrkem Zahraje DJ TOM Vstupné 200 Kč. Pozor zábava přístupná od 1
 5 let.\nhttps://www.frydlantsko.eu/events/valentynska-zabava-v-novem-meste-
 p-s/
URL:https://www.frydlantsko.eu/events/valentynska-zabava-v-novem-meste-p-s/
END:VEVENT
END:VCALENDAR