BEGIN:VCALENDAR
VERSION:2.0
PRODID:-//eventon.com NONSGML v1.0//EN
CALSCALE:GREGORIAN
METHOD:PUBLISH
BEGIN:VEVENT
UID:69e4d2abdefb9
DTSTAMP:20260419T130339Z
DTSTART:20260226T160000Z
DTEND:20260226T190000Z
LOCATION:Kavárna Hugo\,  Hejnice Hejnice 84\,  46362 Hejnice
SUMMARY:Autorské čtení: Aneta Mazurková – Píseň dlaska
DESCRIPTION:Autorka knihy Aneta Mazurková vás srdečně zve na autorské 
 čtení z připravované knihy Píseň dlaska. Přijďte si poslechnout uk
 zku a nahlédnout do příběhu\,  kde se osud přepisuje jen velmi těžk
 o. Kavárna Hugo\,  Hejnice Čtvrtek 26. 2. 2026 od 17:00 Hlavní hrdinka R
 eem žije ve světě\,  kde lidé přestávají stárnout ve[..]\nhttps://w
 ww.frydlantsko.eu/events/autorske-cteni-aneta-mazurkova-pisen-dlaska/
URL:https://www.frydlantsko.eu/events/autorske-cteni-aneta-mazurkova-pisen-dlaska/
END:VEVENT
END:VCALENDAR